{ "currentVersion": 10.91, "serviceDescription": "
Cartografia scura del Comune di Bologna<\/SPAN><\/P><\/DIV><\/DIV>",
"mapName": "Cartografia scura",
"description": "",
"copyrightText": "SIT Bologna",
"supportsDynamicLayers": true,
"layers": [
{
"id": 3,
"name": "Comuni limitrofi",
"parentLayerId": -1,
"defaultVisibility": true,
"subLayerIds": null,
"minScale": 0,
"maxScale": 0,
"type": "Feature Layer",
"geometryType": "esriGeometryPolygon"
},
{
"id": 4,
"name": "Label Toponimi 3000",
"parentLayerId": -1,
"defaultVisibility": true,
"subLayerIds": [
5
],
"minScale": 3000,
"maxScale": 2258,
"type": "Annotation Layer",
"geometryType": "esriGeometryPolygon"
},
{
"id": 5,
"name": "Default",
"parentLayerId": 4,
"defaultVisibility": true,
"subLayerIds": null,
"minScale": 0,
"maxScale": 0
},
{
"id": 6,
"name": "Label Toponimi 2257",
"parentLayerId": -1,
"defaultVisibility": true,
"subLayerIds": [
7
],
"minScale": 2257,
"maxScale": 2001,
"type": "Annotation Layer",
"geometryType": "esriGeometryPolygon"
},
{
"id": 7,
"name": "Default",
"parentLayerId": 6,
"defaultVisibility": true,
"subLayerIds": null,
"minScale": 0,
"maxScale": 0
},
{
"id": 8,
"name": "Label Toponimi 2000",
"parentLayerId": -1,
"defaultVisibility": true,
"subLayerIds": [
9
],
"minScale": 2000,
"maxScale": 1700,
"type": "Annotation Layer",
"geometryType": "esriGeometryPolygon"
},
{
"id": 9,
"name": "Default",
"parentLayerId": 8,
"defaultVisibility": true,
"subLayerIds": null,
"minScale": 0,
"maxScale": 0
},
{
"id": 10,
"name": "Simboli edifici volumetrici",
"parentLayerId": -1,
"defaultVisibility": true,
"subLayerIds": null,
"minScale": 2000,
"maxScale": 0,
"type": "Feature Layer",
"geometryType": "esriGeometryPolyline"
},
{
"id": 11,
"name": "Binari ferroviari",
"parentLayerId": -1,
"defaultVisibility": true,
"subLayerIds": null,
"minScale": 0,
"maxScale": 0,
"type": "Feature Layer",
"geometryType": "esriGeometryPolyline"
},
{
"id": 12,
"name": "Toponimi",
"parentLayerId": -1,
"defaultVisibility": true,
"subLayerIds": null,
"minScale": 1999,
"maxScale": 1000,
"type": "Feature Layer",
"geometryType": "esriGeometryPolyline"
},
{
"id": 13,
"name": "Toponimi principali",
"parentLayerId": -1,
"defaultVisibility": true,
"subLayerIds": null,
"minScale": 5000,
"maxScale": 4500,
"type": "Feature Layer",
"geometryType": "esriGeometryPolyline"
},
{
"id": 14,
"name": "Edifici volumetrici",
"parentLayerId": -1,
"defaultVisibility": true,
"subLayerIds": null,
"minScale": 0,
"maxScale": 0,
"type": "Feature Layer",
"geometryType": "esriGeometryPolygon"
},
{
"id": 15,
"name": "Edifici volumetrici traslati",
"parentLayerId": -1,
"defaultVisibility": true,
"subLayerIds": null,
"minScale": 0,
"maxScale": 0,
"type": "Feature Layer",
"geometryType": "esriGeometryPolygon"
},
{
"id": 16,
"name": "Arredi urbani",
"parentLayerId": -1,
"defaultVisibility": true,
"subLayerIds": null,
"minScale": 3000,
"maxScale": 0,
"type": "Feature Layer",
"geometryType": "esriGeometryPolyline"
},
{
"id": 17,
"name": "Divisioni terreno",
"parentLayerId": -1,
"defaultVisibility": true,
"subLayerIds": null,
"minScale": 3000,
"maxScale": 0,
"type": "Feature Layer",
"geometryType": "esriGeometryPolyline"
},
{
"id": 18,
"name": "Manufatti vari",
"parentLayerId": -1,
"defaultVisibility": true,
"subLayerIds": null,
"minScale": 3000,
"maxScale": 0,
"type": "Feature Layer",
"geometryType": "esriGeometryPolyline"
},
{
"id": 19,
"name": "Recinzioni",
"parentLayerId": -1,
"defaultVisibility": true,
"subLayerIds": null,
"minScale": 3000,
"maxScale": 0,
"type": "Feature Layer",
"geometryType": "esriGeometryPolyline"
},
{
"id": 1,
"name": "Archi stradali",
"parentLayerId": -1,
"defaultVisibility": true,
"subLayerIds": null,
"minScale": 4999,
"maxScale": 0,
"type": "Feature Layer",
"geometryType": "esriGeometryPolyline"
},
{
"id": 20,
"name": "Cigli stradali",
"parentLayerId": -1,
"defaultVisibility": true,
"subLayerIds": null,
"minScale": 0,
"maxScale": 0,
"type": "Feature Layer",
"geometryType": "esriGeometryPolyline"
},
{
"id": 21,
"name": "Aree stradali",
"parentLayerId": -1,
"defaultVisibility": true,
"subLayerIds": null,
"minScale": 0,
"maxScale": 0,
"type": "Feature Layer",
"geometryType": "esriGeometryPolygon"
},
{
"id": 22,
"name": "Reti idriche",
"parentLayerId": -1,
"defaultVisibility": true,
"subLayerIds": null,
"minScale": 0,
"maxScale": 0,
"type": "Feature Layer",
"geometryType": "esriGeometryPolyline"
},
{
"id": 23,
"name": "Canalette irrigue",
"parentLayerId": -1,
"defaultVisibility": true,
"subLayerIds": null,
"minScale": 15000,
"maxScale": 0,
"type": "Feature Layer",
"geometryType": "esriGeometryPolyline"
},
{
"id": 24,
"name": "Reti idriche poligonale",
"parentLayerId": -1,
"defaultVisibility": true,
"subLayerIds": null,
"minScale": 0,
"maxScale": 0,
"type": "Feature Layer",
"geometryType": "esriGeometryPolygon"
},
{
"id": 26,
"name": "Dtm",
"parentLayerId": -1,
"defaultVisibility": true,
"subLayerIds": null,
"minScale": 0,
"maxScale": 0,
"type": "Raster Layer"
},
{
"id": 0,
"name": "Civici",
"parentLayerId": -1,
"defaultVisibility": true,
"subLayerIds": null,
"minScale": 1000,
"maxScale": 0,
"type": "Feature Layer",
"geometryType": "esriGeometryPoint"
},
{
"id": 27,
"name": "Comune Bologna",
"parentLayerId": -1,
"defaultVisibility": true,
"subLayerIds": null,
"minScale": 0,
"maxScale": 0,
"type": "Feature Layer",
"geometryType": "esriGeometryPolygon"
}
],
"tables": [],
"spatialReference": {
"wkid": 7791,
"latestWkid": 7791
},
"singleFusedMapCache": true,
"tileInfo": {
"rows": 512,
"cols": 512,
"dpi": 96,
"format": "PNG24",
"compressionQuality": 0,
"origin": {
"x": -5120900,
"y": 9998100
},
"spatialReference": {
"wkid": 7791,
"latestWkid": 7791
},
"lods": [
{
"level": 0,
"resolution": 19.10925707126831,
"scale": 72223.819286
},
{
"level": 1,
"resolution": 18.520870375074086,
"scale": 70000
},
{
"level": 2,
"resolution": 10.583354500042335,
"scale": 40000
},
{
"level": 3,
"resolution": 9.554628535634155,
"scale": 36111.909643
},
{
"level": 4,
"resolution": 5.291677250021167,
"scale": 20000
},
{
"level": 5,
"resolution": 4.77731426794937,
"scale": 18055.954822
},
{
"level": 6,
"resolution": 2.6458386250105836,
"scale": 10000
},
{
"level": 7,
"resolution": 2.388657133974685,
"scale": 9027.977411
},
{
"level": 8,
"resolution": 1.3229193125052918,
"scale": 5000
},
{
"level": 9,
"resolution": 1.1943285668550503,
"scale": 4513.988705
},
{
"level": 10,
"resolution": 0.7937515875031751,
"scale": 3000
},
{
"level": 11,
"resolution": 0.5971642835598172,
"scale": 2256.994353
},
{
"level": 12,
"resolution": 0.5291677250021167,
"scale": 2000
},
{
"level": 13,
"resolution": 0.29858214164761665,
"scale": 1128.497176
},
{
"level": 14,
"resolution": 0.26458386250105836,
"scale": 1000
}
]
},
"initialExtent": {
"xmin": 582120.4786445178,
"ymin": 4920507.3058464825,
"xmax": 788465.3297554817,
"ymax": 5036047.403866028,
"spatialReference": {
"wkid": 7791,
"latestWkid": 7791
}
},
"fullExtent": {
"xmin": 657791.1062206994,
"ymin": 4899614.449177999,
"xmax": 712794.7021793001,
"ymax": 4957998.880821999,
"spatialReference": {
"wkid": 7791,
"latestWkid": 7791
}
},
"minScale": 72223.819286,
"maxScale": 1000,
"minLOD": 0,
"maxLOD": 14,
"units": "esriMeters",
"supportedImageFormatTypes": "PNG32,PNG24,PNG,JPG,DIB,TIFF,EMF,PS,PDF,GIF,SVG,SVGZ,BMP",
"documentInfo": {
"Title": "Cartografia",
"Author": "SIT Comune di Bologna",
"Comments": " Cartografia scura del Comune di Bologna<\/SPAN><\/P><\/DIV><\/DIV>",
"Subject": "Cartografia scura del Comune di Bologna",
"Category": "",
"AntialiasingMode": "None",
"TextAntialiasingMode": "Force",
"Keywords": "cartografia,cartografia scura Bologna"
},
"capabilities": "Map,Query,Data",
"supportedQueryFormats": "JSON, geoJSON",
"exportTilesAllowed": false,
"referenceScale": 0,
"datumTransformations": [
{
"geoTransforms": [
{
"wkid": 108001,
"latestWkid": 1241,
"transformForward": true,
"name": "NAD_1927_To_NAD_1983_NADCON"
}
]
},
{
"geoTransforms": [
{
"wkid": 108001,
"latestWkid": 1241,
"transformForward": false,
"name": "NAD_1927_To_NAD_1983_NADCON"
}
]
}
],
"supportsDatumTransformation": true,
"maxRecordCount": 1000,
"maxImageHeight": 4096,
"maxImageWidth": 4096,
"supportedExtensions": "",
"serviceItemId": "a9b0301392df4a1e8a0a1a394974ecaa"
}