<?xml version="1.0" encoding="utf-8"?>
        <TileMap version="1.0.0" tilemapservice="http://tms.osgeo.org/1.0.0">
          <Title>Bologna_17_UTM32.vrt</Title>
          <Abstract></Abstract>
          <SRS>PROJCS["WGS 84 / UTM zone 32N",GEOGCS["WGS 84",DATUM["WGS_1984",SPHEROID["WGS 84",6378137,298.257223563,AUTHORITY["EPSG","7030"]],AUTHORITY["EPSG","6326"]],PRIMEM["Greenwich",0,AUTHORITY["EPSG","8901"]],UNIT["degree",0.0174532925199433,AUTHORITY["EPSG","9122"]],AUTHORITY["EPSG","4326"]],PROJECTION["Transverse_Mercator"],PARAMETER["latitude_of_origin",0],PARAMETER["central_meridian",9],PARAMETER["scale_factor",0.9996],PARAMETER["false_easting",500000],PARAMETER["false_northing",0],UNIT["metre",1,AUTHORITY["EPSG","9001"]],AXIS["Easting",EAST],AXIS["Northing",NORTH],AUTHORITY["EPSG","32632"]]</SRS>
          <BoundingBox minx="4919979.97904980462044" miny="675979.98699999996461" maxx="4938020.06300000008196" maxy="694020.07095019530971"/>
          <Origin x="4919979.97904980462044" y="675979.98699999996461"/>
          <TileFormat width="256" height="256" mime-type="image/jpeg" extension="jpg"/>
          <TileSets profile="raster">
            <TileSet href="0" units-per-pixel="90.31000000000000" order="0"/>
            <TileSet href="1" units-per-pixel="45.15500000000000" order="1"/>
            <TileSet href="2" units-per-pixel="22.57750000000000" order="2"/>
            <TileSet href="3" units-per-pixel="11.28875000000000" order="3"/>
            <TileSet href="4" units-per-pixel="5.64437500000000" order="4"/>
            <TileSet href="5" units-per-pixel="2.82218750000000" order="5"/>
            <TileSet href="6" units-per-pixel="1.41109375000000" order="6"/>
            <TileSet href="7" units-per-pixel="0.70554687500000" order="7"/>
            <TileSet href="8" units-per-pixel="0.35277343750000" order="8"/>
            <TileSet href="9" units-per-pixel="0.17638671875000" order="9"/>
            <TileSet href="10" units-per-pixel="0.08819335937500" order="10"/>
            <TileSet href="11" units-per-pixel="0.04409667968750" order="11"/>
          </TileSets>
        </TileMap>
        