<?xml version="1.0" encoding="utf-8"?>
        <TileMap version="1.0.0" tilemapservice="http://tms.osgeo.org/1.0.0">
          <Title>ortofoto2022.vrt</Title>
          <Abstract></Abstract>
          <SRS>PROJCS["Monte Mario / TM Emilia-Romagna",GEOGCS["Monte Mario",DATUM["Monte_Mario",SPHEROID["International 1924",6378388,297,AUTHORITY["EPSG","7022"]],TOWGS84[-104.1,-49.1,-9.9,0.971,-2.917,0.714,-11.68],AUTHORITY["EPSG","6265"]],PRIMEM["Greenwich",0,AUTHORITY["EPSG","8901"]],UNIT["degree",0.0174532925199433,AUTHORITY["EPSG","9122"]],AUTHORITY["EPSG","4265"]],PROJECTION["Transverse_Mercator"],PARAMETER["latitude_of_origin",0],PARAMETER["central_meridian",9],PARAMETER["scale_factor",0.9996],PARAMETER["false_easting",500053],PARAMETER["false_northing",-3999820],UNIT["metre",1,AUTHORITY["EPSG","9001"]],AXIS["X",EAST],AXIS["Y",NORTH],AUTHORITY["EPSG","5659"]]</SRS>
          <BoundingBox minx="921178.25961831526365" miny="676063.38169927999843" maxx="937218.91191811999306" maxy="694103.77432623307686"/>
          <Origin x="921178.25961831526365" y="676063.38169927999843"/>
          <TileFormat width="256" height="256" mime-type="image/jpeg" extension="jpg"/>
          <TileSets profile="raster">
            <TileSet href="0" units-per-pixel="90.31000000000000" order="0"/>
            <TileSet href="1" units-per-pixel="45.15500000000000" order="1"/>
            <TileSet href="2" units-per-pixel="22.57750000000000" order="2"/>
            <TileSet href="3" units-per-pixel="11.28875000000000" order="3"/>
            <TileSet href="4" units-per-pixel="5.64437500000000" order="4"/>
            <TileSet href="5" units-per-pixel="2.82218750000000" order="5"/>
            <TileSet href="6" units-per-pixel="1.41109375000000" order="6"/>
            <TileSet href="7" units-per-pixel="0.70554687500000" order="7"/>
            <TileSet href="8" units-per-pixel="0.35277343750000" order="8"/>
            <TileSet href="9" units-per-pixel="0.17638671875000" order="9"/>
            <TileSet href="10" units-per-pixel="0.08819335937500" order="10"/>
            <TileSet href="11" units-per-pixel="0.04409667968750" order="11"/>
          </TileSets>
        </TileMap>
        