<?xml version="1.0" encoding="utf-8"?>
        <TileMap version="1.0.0" tilemapservice="http://tms.osgeo.org/1.0.0">
          <Title>2024.vrt</Title>
          <Abstract></Abstract>
          <SRS></SRS>
          <BoundingBox minx="921178.25953182647936" miny="676063.38172371720430" maxx="937218.91183163120877" maxy="694103.77435067028273"/>
          <Origin x="921178.25953182647936" y="676063.38172371720430"/>
          <TileFormat width="256" height="256" mime-type="image/jpeg" extension="jpg"/>
          <TileSets profile="raster">
            <TileSet href="0" units-per-pixel="90.31000000000000" order="0"/>
            <TileSet href="1" units-per-pixel="45.15500000000000" order="1"/>
            <TileSet href="2" units-per-pixel="22.57750000000000" order="2"/>
            <TileSet href="3" units-per-pixel="11.28875000000000" order="3"/>
            <TileSet href="4" units-per-pixel="5.64437500000000" order="4"/>
            <TileSet href="5" units-per-pixel="2.82218750000000" order="5"/>
            <TileSet href="6" units-per-pixel="1.41109375000000" order="6"/>
            <TileSet href="7" units-per-pixel="0.70554687500000" order="7"/>
            <TileSet href="8" units-per-pixel="0.35277343750000" order="8"/>
            <TileSet href="9" units-per-pixel="0.17638671875000" order="9"/>
            <TileSet href="10" units-per-pixel="0.08819335937500" order="10"/>
            <TileSet href="11" units-per-pixel="0.04409667968750" order="11"/>
          </TileSets>
        </TileMap>
        